BEGIN:VCALENDAR
VERSION:2.0
PRODID:calendar.fcporto.pt
X-APPLE-CALENDAR-COLOR:#13964ef
X-OUTLOOK-COLOR:#13964ef
X-FUNAMBOL-COLOR:#13964ef
X-WR-CALNAME:FC Porto
X-WR-CALDESC:Calendário FC Porto
X-WR-RELCALID:calendar.fcporto.pt/4202403231000-imortal-bc-vs-fc-porto
X-PUBLISHED-TTL:P1W
BEGIN:VEVENT
UID:4202403231000-imortal-bc-vs-fc-porto
DTSTART:20240323T150000Z
SEQUENCE:0
TRANSP:OPAQUE
LOCATION:Avenida das Ilhas B\, 8200-047\, Albufeira\, Portugal
X-APPLE-STRUCTURED-LOCATION;VALUE=URI;X-ADDRESS="Avenida das Ilhas B, 8200-
 047, Albufeira, Portugal";X-APPLE-RADIUS=49;X-TITLE=Pavilhão Desportivo d
 e Albufeira:geo:37.099200,-8.237800
GEO:37.099200;-8.237800
SUMMARY:Imortal BC vs FC Porto
CLASS:PUBLIC
DESCRIPTION:Imortal BC vs FC Porto
CATEGORIES:basquetebol
DTSTAMP:20260421T181231Z
END:VEVENT
END:VCALENDAR